BEGIN:VCALENDAR
VERSION:2.0
PRODID:-//FWB - Professional Company and Academy - ECPv5.12.4//NONSGML v1.0//EN
CALSCALE:GREGORIAN
METHOD:PUBLISH
X-WR-CALNAME:FWB - Professional Company and Academy
X-ORIGINAL-URL:https://fortwayneballet.org
X-WR-CALDESC:Events for FWB - Professional Company and Academy
REFRESH-INTERVAL;VALUE=DURATION:PT1H
X-Robots-Tag:noindex
X-PUBLISHED-TTL:PT1H
BEGIN:VTIMEZONE
TZID:America/Indiana/Indianapolis
BEGIN:DAYLIGHT
TZOFFSETFROM:-0500
TZOFFSETTO:-0400
TZNAME:EDT
DTSTART:20240310T070000
END:DAYLIGHT
BEGIN:STANDARD
TZOFFSETFROM:-0400
TZOFFSETTO:-0500
TZNAME:EST
DTSTART:20241103T060000
END:STANDARD
END:VTIMEZONE
BEGIN:VEVENT
DTSTART;TZID=America/Indiana/Indianapolis:20241026T100000
DTEND;TZID=America/Indiana/Indianapolis:20241026T110000
DTSTAMP:20260421T060545
CREATED:20241016T164827Z
LAST-MODIFIED:20241021T173409Z
UID:8697-1729936800-1729940400@fortwayneballet.org
SUMMARY:Spooky Kooky
DESCRIPTION:
URL:https://fortwayneballet.org/event/spooky-kooky/2024-10-26/
LOCATION:Fort Wayne Ballet’s Auer Academy\, 300 E. Main Street\, FORT WAYNE\, IN\, 46802\, United States
CATEGORIES:Academy
END:VEVENT
BEGIN:VEVENT
DTSTART;TZID=America/Indiana/Indianapolis:20241026T120000
DTEND;TZID=America/Indiana/Indianapolis:20241026T130000
DTSTAMP:20260421T060545
CREATED:20241016T164827Z
LAST-MODIFIED:20241021T173409Z
UID:8700-1729944000-1729947600@fortwayneballet.org
SUMMARY:Spooky Kooky
DESCRIPTION:
URL:https://fortwayneballet.org/event/spooky-kooky/2024-10-26/2/
LOCATION:Fort Wayne Ballet’s Auer Academy\, 300 E. Main Street\, FORT WAYNE\, IN\, 46802\, United States
CATEGORIES:Academy
END:VEVENT
BEGIN:VEVENT
DTSTART;TZID=America/Indiana/Indianapolis:20241027T133000
DTEND;TZID=America/Indiana/Indianapolis:20241027T143000
DTSTAMP:20260421T060545
CREATED:20241016T164827Z
LAST-MODIFIED:20241016T164827Z
UID:8832-1730035800-1730039400@fortwayneballet.org
SUMMARY:Spooky Kooky
DESCRIPTION:
URL:https://fortwayneballet.org/event/spooky-kooky/2024-10-27/
LOCATION:Fort Wayne Ballet’s Auer Academy\, 300 E. Main Street\, FORT WAYNE\, IN\, 46802\, United States
CATEGORIES:Academy
END:VEVENT
BEGIN:VEVENT
DTSTART;TZID=America/Indiana/Indianapolis:20241027T150000
DTEND;TZID=America/Indiana/Indianapolis:20241027T160000
DTSTAMP:20260421T060545
CREATED:20241016T164827Z
LAST-MODIFIED:20241021T173409Z
UID:8702-1730041200-1730044800@fortwayneballet.org
SUMMARY:Spooky Kooky
DESCRIPTION:
URL:https://fortwayneballet.org/event/spooky-kooky/2024-10-27/2/
LOCATION:Fort Wayne Ballet’s Auer Academy\, 300 E. Main Street\, FORT WAYNE\, IN\, 46802\, United States
CATEGORIES:Academy
END:VEVENT
BEGIN:VEVENT
DTSTART;VALUE=DATE:20241028
DTEND;VALUE=DATE:20241103
DTSTAMP:20260421T060545
CREATED:20241016T175104Z
LAST-MODIFIED:20241016T175104Z
UID:8709-1730073600-1730591999@fortwayneballet.org
SUMMARY:Bring a Friend Week
DESCRIPTION:
URL:https://fortwayneballet.org/event/bring-a-friend-week/
LOCATION:Fort Wayne Ballet’s Auer Academy\, 300 E. Main Street\, FORT WAYNE\, IN\, 46802\, United States
CATEGORIES:Academy
END:VEVENT
END:VCALENDAR